Package: IntEREst Version: 1.32.0 Command: /Library/Frameworks/R.framework/Resources/bin/R CMD build --keep-empty-dirs --no-resave-data IntEREst StartedAt: 2025-09-29 19:56:11 -0400 (Mon, 29 Sep 2025) EndedAt: 2025-09-29 20:00:27 -0400 (Mon, 29 Sep 2025) EllapsedTime: 256.4 seconds RetCode: 0 Status: OK PackageFile: IntEREst_1.32.0.tar.gz PackageFileSize: 1.437 MiB