Package: IntEREst Version: 1.32.0 Command: /home/biocbuild/R/R/bin/R CMD INSTALL IntEREst StartedAt: 2025-09-25 21:13:54 -0000 (Thu, 25 Sep 2025) EndedAt: 2025-09-25 21:15:09 -0000 (Thu, 25 Sep 2025) EllapsedTime: 74.9 seconds RetCode: 0 Status: OK