Package: IntEREst Version: 1.32.0 Command: /home/biocbuild/R/R/bin/R CMD build --keep-empty-dirs --no-resave-data IntEREst StartedAt: 2025-09-26 02:45:21 -0000 (Fri, 26 Sep 2025) EndedAt: 2025-09-26 02:47:28 -0000 (Fri, 26 Sep 2025) EllapsedTime: 127.0 seconds RetCode: 0 Status: OK PackageFile: IntEREst_1.32.0.tar.gz PackageFileSize: 1.406 MiB