Package: Informeasure Version: 1.20.0 Command: /home/biocbuild/bbs-3.22-bioc/R/bin/R CMD build --keep-empty-dirs --no-resave-data --md5 Informeasure StartedAt: 2025-11-11 18:19:57 -0500 (Tue, 11 Nov 2025) EndedAt: 2025-11-11 18:20:09 -0500 (Tue, 11 Nov 2025) EllapsedTime: 12.0 seconds RetCode: 0 Status: OK PackageFile: Informeasure_1.20.0.tar.gz PackageFileSize: 277.3 KiB