Package: Informeasure Version: 1.20.0 Command: /Library/Frameworks/R.framework/Resources/bin/R CMD INSTALL Informeasure StartedAt: 2025-11-10 15:01:14 -0500 (Mon, 10 Nov 2025) EndedAt: 2025-11-10 15:01:21 -0500 (Mon, 10 Nov 2025) EllapsedTime: 6.2 seconds RetCode: 0 Status: OK