Package: Informeasure Version: 1.20.0 Command: /Library/Frameworks/R.framework/Resources/bin/R CMD build --keep-empty-dirs --no-resave-data Informeasure StartedAt: 2025-11-10 16:46:47 -0500 (Mon, 10 Nov 2025) EndedAt: 2025-11-10 16:46:52 -0500 (Mon, 10 Nov 2025) EllapsedTime: 5.1 seconds RetCode: 0 Status: OK PackageFile: Informeasure_1.20.0.tar.gz PackageFileSize: 276.5 KiB