Package: Informeasure Version: 1.20.0 Command: rm -rf Informeasure.buildbin-libdir && mkdir Informeasure.buildbin-libdir && /Users/biocbuild/BBS/utils/build-universal.sh Informeasure_1.20.0.tar.gz /Library/Frameworks/R.framework/Resources/bin/R Informeasure.buildbin-libdir StartedAt: 2025-11-10 23:23:52 -0500 (Mon, 10 Nov 2025) EndedAt: 2025-11-10 23:23:54 -0500 (Mon, 10 Nov 2025) EllapsedTime: 2.0 seconds RetCode: 0 Status: OK PackageFile: Informeasure_1.20.0.tgz PackageFileSize: 330.3 KiB