Package: InTAD Version: 1.30.0 Command: /home/biocbuild/bbs-3.22-bioc/R/bin/R CMD build --keep-empty-dirs --no-resave-data --md5 InTAD StartedAt: 2025-11-11 18:20:23 -0500 (Tue, 11 Nov 2025) EndedAt: 2025-11-11 18:21:24 -0500 (Tue, 11 Nov 2025) EllapsedTime: 61.0 seconds RetCode: 0 Status: OK PackageFile: InTAD_1.30.0.tar.gz PackageFileSize: 1.208 MiB