Package: InTAD Version: 1.30.0 Command: /Library/Frameworks/R.framework/Resources/bin/R CMD INSTALL InTAD StartedAt: 2025-11-03 15:34:15 -0500 (Mon, 03 Nov 2025) EndedAt: 2025-11-03 15:35:06 -0500 (Mon, 03 Nov 2025) EllapsedTime: 51.8 seconds RetCode: 0 Status: OK