Package: InTAD Version: 1.30.0 Command: /Library/Frameworks/R.framework/Resources/bin/R CMD build --keep-empty-dirs --no-resave-data InTAD StartedAt: 2025-11-03 17:28:08 -0500 (Mon, 03 Nov 2025) EndedAt: 2025-11-03 17:29:22 -0500 (Mon, 03 Nov 2025) EllapsedTime: 74.4 seconds RetCode: 0 Status: OK PackageFile: InTAD_1.30.0.tar.gz PackageFileSize: 1.233 MiB