Package: InTAD Version: 1.28.0 Command: /home/biocbuild/R/R/bin/R CMD INSTALL InTAD StartedAt: 2025-10-13 20:41:03 -0000 (Mon, 13 Oct 2025) EndedAt: 2025-10-13 20:41:57 -0000 (Mon, 13 Oct 2025) EllapsedTime: 54.7 seconds RetCode: 0 Status: OK