Package: InTAD Version: 1.28.0 Command: /home/biocbuild/R/R/bin/R CMD build --keep-empty-dirs --no-resave-data InTAD StartedAt: 2025-10-14 01:49:49 -0000 (Tue, 14 Oct 2025) EndedAt: 2025-10-14 01:51:20 -0000 (Tue, 14 Oct 2025) EllapsedTime: 91.0 seconds RetCode: 0 Status: OK PackageFile: InTAD_1.28.0.tar.gz PackageFileSize: 1.197 MiB