Package: InTAD Version: 1.28.0 Command: /Library/Frameworks/R.framework/Resources/bin/R CMD build --keep-empty-dirs --no-resave-data InTAD StartedAt: 2025-04-21 16:42:38 -0400 (Mon, 21 Apr 2025) EndedAt: 2025-04-21 16:43:05 -0400 (Mon, 21 Apr 2025) EllapsedTime: 27.3 seconds RetCode: 0 Status: OK PackageFile: InTAD_1.28.0.tar.gz PackageFileSize: 1.213 MiB