############################################################################## ############################################################################## ### ### Running command: ### ### /home/biocbuild/R/R/bin/R CMD INSTALL InPAS ### ############################################################################## ############################################################################## * installing to library ‘/home/biocbuild/R/R-4.5.0/site-library’ * installing *source* package ‘InPAS’ ... ** this is package ‘InPAS’ version ‘2.18.0’ ** using staged installation ** R ** data *** moving datasets to lazyload DB ** inst ** byte-compile and prepare package for lazy loading Error: object ‘filter’ is not exported by 'namespace:plyranges' Execution halted ERROR: lazy loading failed for package ‘InPAS’ * removing ‘/home/biocbuild/R/R-4.5.0/site-library/InPAS’ * restoring previous ‘/home/biocbuild/R/R-4.5.0/site-library/InPAS’