Package: InPAS Version: 2.18.0 Command: /home/biocbuild/R/R/bin/R CMD build --keep-empty-dirs --no-resave-data InPAS StartedAt: 2025-11-14 02:40:02 -0000 (Fri, 14 Nov 2025) EndedAt: 2025-11-14 02:40:21 -0000 (Fri, 14 Nov 2025) EllapsedTime: 19.0 seconds RetCode: 1 Status: ERROR PackageFile: None PackageFileSize: NA