############################################################################## ############################################################################## ### ### Running command: ### ### /home/biocbuild/R/R/bin/R CMD build --keep-empty-dirs --no-resave-data InPAS ### ############################################################################## ############################################################################## * checking for file ‘InPAS/DESCRIPTION’ ... OK * preparing ‘InPAS’: * checking DESCRIPTION meta-information ... OK * installing the package to build vignettes ----------------------------------- * installing *source* package ‘InPAS’ ... ** this is package ‘InPAS’ version ‘2.18.0’ ** using staged installation ** R ** data *** moving datasets to lazyload DB ** inst ** byte-compile and prepare package for lazy loading Error: object ‘filter’ is not exported by 'namespace:plyranges' Execution halted ERROR: lazy loading failed for package ‘InPAS’ * removing ‘/home/biocbuild/tmp/RtmpCweMSW/Rinstc3af9504ab238/InPAS’ ----------------------------------- ERROR: package installation failed