Package: InPAS Version: 2.18.0 Command: /home/biocbuild/bbs-3.22-bioc/R/bin/R CMD build --keep-empty-dirs --no-resave-data --md5 InPAS StartedAt: 2025-11-11 18:20:02 -0500 (Tue, 11 Nov 2025) EndedAt: 2025-11-11 18:22:51 -0500 (Tue, 11 Nov 2025) EllapsedTime: 168.2 seconds RetCode: 0 Status: OK PackageFile: InPAS_2.18.0.tar.gz PackageFileSize: 1.43 MiB