Package: InPAS Version: 2.16.0 Command: /Library/Frameworks/R.framework/Resources/bin/R CMD INSTALL InPAS StartedAt: 2025-10-13 16:20:15 -0400 (Mon, 13 Oct 2025) EndedAt: 2025-10-13 16:21:54 -0400 (Mon, 13 Oct 2025) EllapsedTime: 99.5 seconds RetCode: 0 Status: OK