Package: InPAS Version: 2.16.0 Command: rm -rf InPAS.buildbin-libdir && mkdir InPAS.buildbin-libdir && /Users/biocbuild/BBS/utils/build-universal.sh InPAS_2.16.0.tar.gz /Library/Frameworks/R.framework/Resources/bin/R InPAS.buildbin-libdir StartedAt: 2025-10-14 13:46:29 -0400 (Tue, 14 Oct 2025) EndedAt: 2025-10-14 13:49:15 -0400 (Tue, 14 Oct 2025) EllapsedTime: 166.6 seconds RetCode: 0 Status: OK PackageFile: InPAS_2.16.0.tgz PackageFileSize: 3.438 MiB