Package: InPAS Version: 2.16.0 Command: /home/biocbuild/R/R/bin/R CMD build --keep-empty-dirs --no-resave-data InPAS StartedAt: 2025-09-26 02:41:45 -0000 (Fri, 26 Sep 2025) EndedAt: 2025-09-26 02:45:43 -0000 (Fri, 26 Sep 2025) EllapsedTime: 238.1 seconds RetCode: 0 Status: OK PackageFile: InPAS_2.16.0.tar.gz PackageFileSize: 1.445 MiB