Package: IgGeneUsage Version: 1.24.0 Command: /home/biocbuild/bbs-3.22-bioc/R/bin/R CMD INSTALL IgGeneUsage StartedAt: 2025-11-11 15:28:04 -0500 (Tue, 11 Nov 2025) EndedAt: 2025-11-11 15:38:24 -0500 (Tue, 11 Nov 2025) EllapsedTime: 620.0 seconds RetCode: 0 Status: OK