Package: IgGeneUsage Version: 1.22.0 Command: /home/biocbuild/bbs-3.21-bioc/R/bin/R CMD build --keep-empty-dirs --no-resave-data IgGeneUsage StartedAt: 2025-10-15 18:03:18 -0400 (Wed, 15 Oct 2025) EndedAt: 2025-10-15 18:19:46 -0400 (Wed, 15 Oct 2025) EllapsedTime: 988.1 seconds RetCode: 0 Status: OK PackageFile: IgGeneUsage_1.22.0.tar.gz PackageFileSize: 1.293 MiB