Package: IgGeneUsage Version: 1.22.0 Command: /home/biocbuild/R/R/bin/R CMD INSTALL IgGeneUsage StartedAt: 2025-10-06 20:36:32 -0000 (Mon, 06 Oct 2025) EndedAt: 2025-10-06 20:53:32 -0000 (Mon, 06 Oct 2025) EllapsedTime: 1019.5 seconds RetCode: 0 Status: OK