Package: IgGeneUsage Version: 1.22.0 Command: /home/biocbuild/R/R/bin/R CMD build --keep-empty-dirs --no-resave-data IgGeneUsage StartedAt: 2025-10-07 01:49:27 -0000 (Tue, 07 Oct 2025) EndedAt: 2025-10-07 02:13:47 -0000 (Tue, 07 Oct 2025) EllapsedTime: 1459.5 seconds RetCode: 0 Status: OK PackageFile: IgGeneUsage_1.22.0.tar.gz PackageFileSize: 1.15 MiB