Package: IgGeneUsage Version: 1.24.0 Command: /Library/Frameworks/R.framework/Resources/bin/R CMD INSTALL IgGeneUsage StartedAt: 2025-11-10 15:14:57 -0500 (Mon, 10 Nov 2025) EndedAt: 2025-11-10 15:17:26 -0500 (Mon, 10 Nov 2025) EllapsedTime: 148.8 seconds RetCode: 0 Status: OK