Package: IgGeneUsage Version: 1.24.0 Command: /Library/Frameworks/R.framework/Resources/bin/R CMD build --keep-empty-dirs --no-resave-data IgGeneUsage StartedAt: 2025-11-10 16:44:48 -0500 (Mon, 10 Nov 2025) EndedAt: 2025-11-10 16:49:23 -0500 (Mon, 10 Nov 2025) EllapsedTime: 275.1 seconds RetCode: 0 Status: OK PackageFile: IgGeneUsage_1.24.0.tar.gz PackageFileSize: 1.192 MiB