Package: IgGeneUsage Version: 1.22.0 Command: /Library/Frameworks/R.framework/Resources/bin/R CMD INSTALL IgGeneUsage StartedAt: 2025-10-13 16:31:44 -0400 (Mon, 13 Oct 2025) EndedAt: 2025-10-13 16:39:50 -0400 (Mon, 13 Oct 2025) EllapsedTime: 486.4 seconds RetCode: 0 Status: OK