Package: IgGeneUsage Version: 1.22.0 Command: /Library/Frameworks/R.framework/Resources/bin/R CMD build --keep-empty-dirs --no-resave-data IgGeneUsage StartedAt: 2025-10-14 02:30:58 -0400 (Tue, 14 Oct 2025) EndedAt: 2025-10-14 02:46:31 -0400 (Tue, 14 Oct 2025) EllapsedTime: 932.6 seconds RetCode: 0 Status: OK PackageFile: IgGeneUsage_1.22.0.tar.gz PackageFileSize: 1.211 MiB