Package: IgGeneUsage Version: 1.22.0 Command: rm -rf IgGeneUsage.buildbin-libdir && mkdir IgGeneUsage.buildbin-libdir && /Users/biocbuild/BBS/utils/build-universal.sh IgGeneUsage_1.22.0.tar.gz /Library/Frameworks/R.framework/Resources/bin/R IgGeneUsage.buildbin-libdir StartedAt: 2025-10-15 18:54:47 -0400 (Wed, 15 Oct 2025) EndedAt: 2025-10-15 19:03:44 -0400 (Wed, 15 Oct 2025) EllapsedTime: 536.1 seconds RetCode: 0 Status: OK PackageFile: IgGeneUsage_1.22.0.tgz PackageFileSize: 2.983 MiB