Package: IdeoViz Version: 1.46.0 Command: /home/biocbuild/bbs-3.22-bioc/R/bin/R CMD build --keep-empty-dirs --no-resave-data --md5 IdeoViz StartedAt: 2025-11-13 18:15:18 -0500 (Thu, 13 Nov 2025) EndedAt: 2025-11-13 18:15:19 -0500 (Thu, 13 Nov 2025) EllapsedTime: 1.0 seconds RetCode: 0 Status: OK PackageFile: IdeoViz_1.46.0.tar.gz PackageFileSize: 413 KiB