Package: IdeoViz Version: 1.46.0 Command: /Library/Frameworks/R.framework/Resources/bin/R CMD INSTALL IdeoViz StartedAt: 2025-11-10 15:17:49 -0500 (Mon, 10 Nov 2025) EndedAt: 2025-11-10 15:18:02 -0500 (Mon, 10 Nov 2025) EllapsedTime: 13.0 seconds RetCode: 0 Status: OK