Package: IdeoViz Version: 1.46.0 Command: /Library/Frameworks/R.framework/Resources/bin/R CMD build --keep-empty-dirs --no-resave-data IdeoViz StartedAt: 2025-11-10 16:44:27 -0500 (Mon, 10 Nov 2025) EndedAt: 2025-11-10 16:44:28 -0500 (Mon, 10 Nov 2025) EllapsedTime: 1.0 seconds RetCode: 0 Status: OK PackageFile: IdeoViz_1.46.0.tar.gz PackageFileSize: 411.8 KiB