Package: Icens Version: 1.82.0 Command: /home/biocbuild/bbs-3.22-bioc/R/bin/R CMD build --keep-empty-dirs --no-resave-data --md5 Icens StartedAt: 2025-11-14 18:14:07 -0500 (Fri, 14 Nov 2025) EndedAt: 2025-11-14 18:14:08 -0500 (Fri, 14 Nov 2025) EllapsedTime: 1.0 seconds RetCode: 0 Status: OK PackageFile: Icens_1.82.0.tar.gz PackageFileSize: 21.93 KiB