Package: Ibex Version: 1.0.0 Command: /home/biocbuild/bbs-3.22-bioc/R/bin/R CMD check --install=check:Ibex.install-out.txt --library=/home/biocbuild/bbs-3.22-bioc/R/site-library --timings Ibex_1.0.0.tar.gz StartedAt: 2025-11-15 00:43:42 -0500 (Sat, 15 Nov 2025) EndedAt: 2025-11-15 00:55:41 -0500 (Sat, 15 Nov 2025) EllapsedTime: 718.9 seconds RetCode: 0 Status: OK CheckDir: Ibex.Rcheck Warnings: 0