Package: Ibex Version: 1.0.0 Command: /home/biocbuild/bbs-3.22-bioc/R/bin/R CMD build --keep-empty-dirs --no-resave-data --md5 Ibex StartedAt: 2025-11-11 18:16:06 -0500 (Tue, 11 Nov 2025) EndedAt: 2025-11-11 18:18:14 -0500 (Tue, 11 Nov 2025) EllapsedTime: 128.2 seconds RetCode: 0 Status: OK PackageFile: Ibex_1.0.0.tar.gz PackageFileSize: 4.021 MiB