Package: Ibex Version: 1.0.0 Command: /Library/Frameworks/R.framework/Resources/bin/R CMD INSTALL Ibex StartedAt: 2025-11-03 15:31:28 -0500 (Mon, 03 Nov 2025) EndedAt: 2025-11-03 15:32:12 -0500 (Mon, 03 Nov 2025) EllapsedTime: 43.9 seconds RetCode: 0 Status: OK