Package: Ibex Version: 1.0.0 Command: /Library/Frameworks/R.framework/Resources/bin/R CMD build --keep-empty-dirs --no-resave-data Ibex StartedAt: 2025-11-03 17:24:12 -0500 (Mon, 03 Nov 2025) EndedAt: 2025-11-03 17:26:32 -0500 (Mon, 03 Nov 2025) EllapsedTime: 140.8 seconds RetCode: 1 Status: ERROR PackageFile: None PackageFileSize: NA