Package: Ibex Version: 1.0.0 Command: /Library/Frameworks/R.framework/Resources/bin/R CMD INSTALL Ibex StartedAt: 2025-11-10 15:15:00 -0500 (Mon, 10 Nov 2025) EndedAt: 2025-11-10 15:15:13 -0500 (Mon, 10 Nov 2025) EllapsedTime: 12.8 seconds RetCode: 0 Status: OK