Package: Ibex Version: 1.0.0 Command: /Library/Frameworks/R.framework/Resources/bin/R CMD build --keep-empty-dirs --no-resave-data Ibex StartedAt: 2025-11-10 16:44:01 -0500 (Mon, 10 Nov 2025) EndedAt: 2025-11-10 16:45:12 -0500 (Mon, 10 Nov 2025) EllapsedTime: 71.8 seconds RetCode: 0 Status: OK PackageFile: Ibex_1.0.0.tar.gz PackageFileSize: 4.065 MiB