Package: Ibex Version: 1.0.0 Command: rm -rf Ibex.buildbin-libdir && mkdir Ibex.buildbin-libdir && /Users/biocbuild/BBS/utils/build-universal.sh Ibex_1.0.0.tar.gz /Library/Frameworks/R.framework/Resources/bin/R Ibex.buildbin-libdir StartedAt: 2025-11-10 23:23:30 -0500 (Mon, 10 Nov 2025) EndedAt: 2025-11-10 23:23:45 -0500 (Mon, 10 Nov 2025) EllapsedTime: 14.3 seconds RetCode: 0 Status: OK PackageFile: Ibex_1.0.0.tgz PackageFileSize: 1.228 MiB