Package: Ibex Version: 1.0.0 Maintainer: Nick Borcherding MaintainerEmail: ncborch at gmail.com git_url: https://git.bioconductor.org/packages/Ibex git_branch: RELEASE_3_22 git_last_commit: 92396da git_last_commit_date: 2025-10-29 11:38:26 -0500 (Wed, 29 Oct 2025)