Package: IVAS Version: 2.30.0 Command: /home/biocbuild/bbs-3.22-bioc/R/bin/R CMD build --keep-empty-dirs --no-resave-data --md5 IVAS StartedAt: 2025-11-11 18:24:56 -0500 (Tue, 11 Nov 2025) EndedAt: 2025-11-11 18:26:04 -0500 (Tue, 11 Nov 2025) EllapsedTime: 68.1 seconds RetCode: 0 Status: OK PackageFile: IVAS_2.30.0.tar.gz PackageFileSize: 257.1 KiB