Package: ITALICS Version: 2.70.0 Command: /home/biocbuild/R/R/bin/R CMD INSTALL ITALICS StartedAt: 2025-11-13 22:06:00 -0000 (Thu, 13 Nov 2025) EndedAt: 2025-11-13 22:06:34 -0000 (Thu, 13 Nov 2025) EllapsedTime: 34.3 seconds RetCode: 0 Status: OK