Package: ITALICS Version: 2.70.0 Command: /home/biocbuild/R/R/bin/R CMD build --keep-empty-dirs --no-resave-data ITALICS StartedAt: 2025-11-14 02:45:40 -0000 (Fri, 14 Nov 2025) EndedAt: 2025-11-14 02:46:44 -0000 (Fri, 14 Nov 2025) EllapsedTime: 64.0 seconds RetCode: 0 Status: OK PackageFile: ITALICS_2.70.0.tar.gz PackageFileSize: 607.5 KiB