Package: ITALICS Version: 2.70.0 Command: /home/biocbuild/bbs-3.22-bioc/R/bin/R CMD check --install=check:ITALICS.install-out.txt --library=/home/biocbuild/bbs-3.22-bioc/R/site-library --timings ITALICS_2.70.0.tar.gz StartedAt: 2025-11-12 00:52:22 -0500 (Wed, 12 Nov 2025) EndedAt: 2025-11-12 00:55:52 -0500 (Wed, 12 Nov 2025) EllapsedTime: 210.3 seconds RetCode: 0 Status: OK CheckDir: ITALICS.Rcheck Warnings: 0