Package: ITALICS Version: 2.68.0 Command: /home/biocbuild/bbs-3.21-bioc/R/bin/R CMD INSTALL ITALICS StartedAt: 2025-10-08 15:58:14 -0400 (Wed, 08 Oct 2025) EndedAt: 2025-10-08 15:58:38 -0400 (Wed, 08 Oct 2025) EllapsedTime: 24.6 seconds RetCode: 0 Status: OK