Package: ITALICS Version: 2.68.0 Command: /home/biocbuild/bbs-3.21-bioc/R/bin/R CMD build --keep-empty-dirs --no-resave-data ITALICS StartedAt: 2025-10-08 18:10:09 -0400 (Wed, 08 Oct 2025) EndedAt: 2025-10-08 18:11:00 -0400 (Wed, 08 Oct 2025) EllapsedTime: 51.1 seconds RetCode: 0 Status: OK PackageFile: ITALICS_2.68.0.tar.gz PackageFileSize: 615.7 KiB