Package: ITALICS Version: 2.68.0 Command: /Library/Frameworks/R.framework/Resources/bin/R CMD INSTALL ITALICS StartedAt: 2025-04-21 15:43:55 -0400 (Mon, 21 Apr 2025) EndedAt: 2025-04-21 15:44:31 -0400 (Mon, 21 Apr 2025) EllapsedTime: 35.1 seconds RetCode: 0 Status: OK