Package: ITALICS Version: 2.68.0 Command: /Library/Frameworks/R.framework/Resources/bin/R CMD INSTALL ITALICS StartedAt: 2025-10-06 18:35:33 -0400 (Mon, 06 Oct 2025) EndedAt: 2025-10-06 18:36:04 -0400 (Mon, 06 Oct 2025) EllapsedTime: 31.1 seconds RetCode: 0 Status: OK