Package: ITALICS Version: 2.68.0 Command: /Library/Frameworks/R.framework/Resources/bin/R CMD build --keep-empty-dirs --no-resave-data ITALICS StartedAt: 2025-10-07 03:04:47 -0400 (Tue, 07 Oct 2025) EndedAt: 2025-10-07 03:06:02 -0400 (Tue, 07 Oct 2025) EllapsedTime: 75.0 seconds RetCode: 0 Status: OK PackageFile: ITALICS_2.68.0.tar.gz PackageFileSize: 615.5 KiB